BEGIN:VCALENDAR
METHOD:PUBLISH
PRODID:www-phil-fau-de//Events//DE
VERSION:2.0
BEGIN:VEVENT
SUMMARY:Awareness Lunch Talks: Awareness bei Tagungen\, Exkursionen un
 d Kooperationen
UID:2097011F-DBBB-40FB-A1E6-42B107FE071A
DESCRIPTION:Awareness Lunch Talks 12:30 &#8211\; 13:00 Uhr 25.11. Woru
 m geht es bei Awareness? 2.12. Lehre auf Augenhöhe &#8211\; Awareness
  in Lehrkontexten 20.1. Awareness bei Tagungen\, Exkursionen und Koope
 rationen 27.1. Feiern\, aber aware &#8211\; Awareness auf Events Onlin
 e Zoom-Link: https://fau.zoom-x.de/j/64706785967?pwd=rEBsmBv3qb7vAcs3J
 M8mGkjxoMaYtv.1 Weitere Informationen: https://www.gender-und-diversit
 y.fau.de/2025/11/12/awareness-lunch-talks-am-25-11-2-12-20-1-27-01-123
 0-1300-uhr-online-via-zoom/
DTSTART:20260120T113000Z
DTEND:20260120T120000Z
LOCATION:Online
DTSTAMP:20260421T022225Z
END:VEVENT
END:VCALENDAR